BEGIN:VCALENDAR
VERSION:2.0
PRODID:-//Keystone College - ECPv6.15.17.1//NONSGML v1.0//EN
CALSCALE:GREGORIAN
METHOD:PUBLISH
X-WR-CALNAME:Keystone College
X-ORIGINAL-URL:https://www.keystone.edu
X-WR-CALDESC:Events for Keystone College
REFRESH-INTERVAL;VALUE=DURATION:PT1H
X-Robots-Tag:noindex
X-PUBLISHED-TTL:PT1H
BEGIN:VTIMEZONE
TZID:America/New_York
BEGIN:DAYLIGHT
TZOFFSETFROM:-0500
TZOFFSETTO:-0400
TZNAME:EDT
DTSTART:20240310T070000
END:DAYLIGHT
BEGIN:STANDARD
TZOFFSETFROM:-0400
TZOFFSETTO:-0500
TZNAME:EST
DTSTART:20241103T060000
END:STANDARD
BEGIN:DAYLIGHT
TZOFFSETFROM:-0500
TZOFFSETTO:-0400
TZNAME:EDT
DTSTART:20250309T070000
END:DAYLIGHT
BEGIN:STANDARD
TZOFFSETFROM:-0400
TZOFFSETTO:-0500
TZNAME:EST
DTSTART:20251102T060000
END:STANDARD
BEGIN:DAYLIGHT
TZOFFSETFROM:-0500
TZOFFSETTO:-0400
TZNAME:EDT
DTSTART:20260308T070000
END:DAYLIGHT
BEGIN:STANDARD
TZOFFSETFROM:-0400
TZOFFSETTO:-0500
TZNAME:EST
DTSTART:20261101T060000
END:STANDARD
BEGIN:DAYLIGHT
TZOFFSETFROM:-0500
TZOFFSETTO:-0400
TZNAME:EDT
DTSTART:20270314T070000
END:DAYLIGHT
BEGIN:STANDARD
TZOFFSETFROM:-0400
TZOFFSETTO:-0500
TZNAME:EST
DTSTART:20271107T060000
END:STANDARD
END:VTIMEZONE
BEGIN:VEVENT
DTSTART;TZID=America/New_York:20260410T180000
DTEND;TZID=America/New_York:20260410T200000
DTSTAMP:20260419T160248
CREATED:20260110T143551Z
LAST-MODIFIED:20260113T153455Z
UID:10033051-1775844000-1775851200@www.keystone.edu
SUMMARY:Lawn Games
DESCRIPTION:Play classic outdoor games and enjoy fresh air fun
URL:https://www.keystone.edu/event/lawn-games/
LOCATION:College Green
CATEGORIES:Student Life and Activities
ORGANIZER;CN="Student Activities Crew":MAILTO:sac@keystone.edu
END:VEVENT
BEGIN:VEVENT
DTSTART;TZID=America/New_York:20251016T123000
DTEND;TZID=America/New_York:20251016T143000
DTSTAMP:20260419T160248
CREATED:20251001T145631Z
LAST-MODIFIED:20251001T145917Z
UID:10032968-1760617800-1760625000@www.keystone.edu
SUMMARY:Wiffle Ball Game
DESCRIPTION:Step up to the plate! Join Intramurals and Student Activities for Wiffle Ball on the College Green
URL:https://www.keystone.edu/event/wiffle-ball/
LOCATION:College Green
CATEGORIES:Student Club & Organization Meetings,Student Life and Activities
ORGANIZER;CN="Student Activities Crew":MAILTO:sac@keystone.edu
END:VEVENT
BEGIN:VEVENT
DTSTART;TZID=America/New_York:20251002T120000
DTEND;TZID=America/New_York:20251002T140000
DTSTAMP:20260419T160248
CREATED:20250819T200647Z
LAST-MODIFIED:20250821T140423Z
UID:10032656-1759406400-1759413600@www.keystone.edu
SUMMARY:Tie Dye
DESCRIPTION:Create your own colorful tie-dye masterpiece
URL:https://www.keystone.edu/event/tie-dye/
LOCATION:College Green
CATEGORIES:Student Life and Activities
ORGANIZER;CN="Student Life":MAILTO:studentlife@keystone.edu 
END:VEVENT
BEGIN:VEVENT
DTSTART;TZID=America/New_York:20250925T210000
DTEND;TZID=America/New_York:20250925T223000
DTSTAMP:20260419T160248
CREATED:20250819T200648Z
LAST-MODIFIED:20250821T140448Z
UID:10032658-1758834000-1758839400@www.keystone.edu
SUMMARY:Live Music and Bonfire
DESCRIPTION:Cozy up with music by the bonfire
URL:https://www.keystone.edu/event/live-music-bonfire/
LOCATION:College Green
CATEGORIES:Student Life and Activities
ORGANIZER;CN="Student Life":MAILTO:studentlife@keystone.edu 
END:VEVENT
BEGIN:VEVENT
DTSTART;TZID=America/New_York:20250924T123000
DTEND;TZID=America/New_York:20250924T140000
DTSTAMP:20260419T160248
CREATED:20250918T182243Z
LAST-MODIFIED:20250918T182243Z
UID:10032953-1758717000-1758722400@www.keystone.edu
SUMMARY:Dunk-A-Thon
DESCRIPTION:BSU Presents Dunk-A-Thon Wednesday September 24th 12:30-2PM In Front of Hibbard
URL:https://www.keystone.edu/event/dunk-a-thon/
LOCATION:College Green
CATEGORIES:Student Club & Organization Meetings
ORGANIZER;CN="BSU":MAILTO:mdupree@keystone.edu
END:VEVENT
BEGIN:VEVENT
DTSTART;TZID=America/New_York:20250824T160000
DTEND;TZID=America/New_York:20250824T190000
DTSTAMP:20260419T160248
CREATED:20250819T203247Z
LAST-MODIFIED:20250819T203729Z
UID:10032701-1756051200-1756062000@www.keystone.edu
SUMMARY:Welcome Back Bash
DESCRIPTION:All are welcome! Celebrate the start of your college journey with music\, games\, and friends!
URL:https://www.keystone.edu/event/welcome-back-bash-2/
LOCATION:College Green
CATEGORIES:Student Life and Activities
ORGANIZER;CN="Student Success":MAILTO:success@keystone.edu
END:VEVENT
END:VCALENDAR