BEGIN:VCALENDAR
VERSION:2.0
PRODID:-//Keystone College - ECPv6.15.17.1//NONSGML v1.0//EN
CALSCALE:GREGORIAN
METHOD:PUBLISH
X-WR-CALNAME:Keystone College
X-ORIGINAL-URL:https://www.keystone.edu
X-WR-CALDESC:Events for Keystone College
REFRESH-INTERVAL;VALUE=DURATION:PT1H
X-Robots-Tag:noindex
X-PUBLISHED-TTL:PT1H
BEGIN:VTIMEZONE
TZID:America/New_York
BEGIN:DAYLIGHT
TZOFFSETFROM:-0500
TZOFFSETTO:-0400
TZNAME:EDT
DTSTART:20240310T070000
END:DAYLIGHT
BEGIN:STANDARD
TZOFFSETFROM:-0400
TZOFFSETTO:-0500
TZNAME:EST
DTSTART:20241103T060000
END:STANDARD
BEGIN:DAYLIGHT
TZOFFSETFROM:-0500
TZOFFSETTO:-0400
TZNAME:EDT
DTSTART:20250309T070000
END:DAYLIGHT
BEGIN:STANDARD
TZOFFSETFROM:-0400
TZOFFSETTO:-0500
TZNAME:EST
DTSTART:20251102T060000
END:STANDARD
BEGIN:DAYLIGHT
TZOFFSETFROM:-0500
TZOFFSETTO:-0400
TZNAME:EDT
DTSTART:20260308T070000
END:DAYLIGHT
BEGIN:STANDARD
TZOFFSETFROM:-0400
TZOFFSETTO:-0500
TZNAME:EST
DTSTART:20261101T060000
END:STANDARD
END:VTIMEZONE
BEGIN:VEVENT
DTSTART;TZID=America/New_York:20251114T190000
DTEND;TZID=America/New_York:20251114T203000
DTSTAMP:20260419T192801
CREATED:20250917T162423Z
LAST-MODIFIED:20250917T162423Z
UID:10032950-1763146800-1763152200@www.keystone.edu
SUMMARY:Trivia Night First Gen Edition
DESCRIPTION:
URL:https://www.keystone.edu/event/trivia-night-first-gen-edition/
LOCATION:Giants’ Den
CATEGORIES:Residence Life,Student Life and Activities
END:VEVENT
BEGIN:VEVENT
DTSTART;TZID=America/New_York:20251113T123000
DTEND;TZID=America/New_York:20251113T133000
DTSTAMP:20260419T192801
CREATED:20250917T162235Z
LAST-MODIFIED:20250917T162235Z
UID:10032949-1763037000-1763040600@www.keystone.edu
SUMMARY:Dear First-Gen Me
DESCRIPTION:Letter to self Table
URL:https://www.keystone.edu/event/dear-first-gen-me/
LOCATION:Hibbard Campus Center – 3rd Floor (top level)
CATEGORIES:Residence Life,Student Life and Activities
GEO:41.5631327;-75.7826932
END:VEVENT
BEGIN:VEVENT
DTSTART;TZID=America/New_York:20251112T120000
DTEND;TZID=America/New_York:20251112T133000
DTSTAMP:20260419T192801
CREATED:20250917T161909Z
LAST-MODIFIED:20251106T210719Z
UID:10032948-1762948800-1762954200@www.keystone.edu
SUMMARY:Financial Planning Workshop
DESCRIPTION:
URL:https://www.keystone.edu/event/financial-planning-workshop/
LOCATION:Miller Library
CATEGORIES:Career Development,Residence Life,Student Life and Activities
ORGANIZER;CN="Student Life":MAILTO:studentlife@keystone.edu 
END:VEVENT
BEGIN:VEVENT
DTSTART;TZID=America/New_York:20251110T123000
DTEND;TZID=America/New_York:20251110T133000
DTSTAMP:20260419T192801
CREATED:20250917T161630Z
LAST-MODIFIED:20250917T161630Z
UID:10032946-1762777800-1762781400@www.keystone.edu
SUMMARY:First Gen Recognition Ceremony
DESCRIPTION:Celebrate and honor first-gen students\, faculty\, and staff w/ certificates\, speeches\, and small gifts \nThere will also be an “I’m First” photo booth as well
URL:https://www.keystone.edu/event/first-gen-recognition-ceremony/
LOCATION:Fireplace Lounge\, Hibbard Campus Center\, Factoryville\, PA 18419
CATEGORIES:Residence Life,Student Life and Activities
ORGANIZER;CN="Student Life":MAILTO:studentlife@keystone.edu 
GEO:41.5590559;-75.7773919
X-APPLE-STRUCTURED-LOCATION;VALUE=URI;X-ADDRESS=Fireplace Lounge Hibbard Campus Center Factoryville PA 18419;X-APPLE-RADIUS=500;X-TITLE=Hibbard Campus Center\, Factoryville\, PA 18419:geo:-75.7773919,41.5590559
END:VEVENT
END:VCALENDAR