BEGIN:VCALENDAR
VERSION:2.0
PRODID:-//Keystone College - ECPv6.15.17.1//NONSGML v1.0//EN
CALSCALE:GREGORIAN
METHOD:PUBLISH
X-ORIGINAL-URL:https://www.keystone.edu
X-WR-CALDESC:Events for Keystone College
REFRESH-INTERVAL;VALUE=DURATION:PT1H
X-Robots-Tag:noindex
X-PUBLISHED-TTL:PT1H
BEGIN:VTIMEZONE
TZID:America/New_York
BEGIN:DAYLIGHT
TZOFFSETFROM:-0500
TZOFFSETTO:-0400
TZNAME:EDT
DTSTART:20240310T070000
END:DAYLIGHT
BEGIN:STANDARD
TZOFFSETFROM:-0400
TZOFFSETTO:-0500
TZNAME:EST
DTSTART:20241103T060000
END:STANDARD
BEGIN:DAYLIGHT
TZOFFSETFROM:-0500
TZOFFSETTO:-0400
TZNAME:EDT
DTSTART:20250309T070000
END:DAYLIGHT
BEGIN:STANDARD
TZOFFSETFROM:-0400
TZOFFSETTO:-0500
TZNAME:EST
DTSTART:20251102T060000
END:STANDARD
BEGIN:DAYLIGHT
TZOFFSETFROM:-0500
TZOFFSETTO:-0400
TZNAME:EDT
DTSTART:20260308T070000
END:DAYLIGHT
BEGIN:STANDARD
TZOFFSETFROM:-0400
TZOFFSETTO:-0500
TZNAME:EST
DTSTART:20261101T060000
END:STANDARD
END:VTIMEZONE
BEGIN:VEVENT
DTSTART;TZID=America/New_York:20250801T080000
DTEND;TZID=America/New_York:20250801T170000
DTSTAMP:20260423T112655
CREATED:20250324T185636Z
LAST-MODIFIED:20250324T192406Z
UID:10030325-1754035200-1754067600@www.keystone.edu
SUMMARY:Last day to withdraw from summer 2 course with notation
DESCRIPTION:Last day to withdraw from a UG Sum 2\, GR Sum 2\, and KCVC Sum 2 course with notation (W)
URL:https://www.keystone.edu/event/last-day-to-withdraw-from-summer-2-course-with-notation-2/
LOCATION:None
CATEGORIES:Academic Dates
ORGANIZER;CN="Registrar":MAILTO:registrar@keystone.edu
END:VEVENT
BEGIN:VEVENT
DTSTART;TZID=America/New_York:20250815T080000
DTEND;TZID=America/New_York:20250815T170000
DTSTAMP:20260423T112655
CREATED:20250324T185750Z
LAST-MODIFIED:20250515T182703Z
UID:10030326-1755244800-1755277200@www.keystone.edu
SUMMARY:Traditional Summer and Summer 2 courses end
DESCRIPTION:UG Trad Sum and GR Trad Sum courses end\nUG Sum 2\, GR Sum 2\, and KCVC Sum 2 courses end
URL:https://www.keystone.edu/event/traditional-summer-and-summer-2-courses-end/
LOCATION:None
CATEGORIES:Academic Dates
ORGANIZER;CN="Registrar":MAILTO:registrar@keystone.edu
END:VEVENT
BEGIN:VEVENT
DTSTART;TZID=America/New_York:20250816T110000
DTEND;TZID=America/New_York:20250816T180000
DTSTAMP:20260423T112655
CREATED:20250811T184303Z
LAST-MODIFIED:20250811T184303Z
UID:10032635-1755342000-1755367200@www.keystone.edu
SUMMARY:Women’s Soccer Team at the Turf
DESCRIPTION:Are you interested in joining the Keystone College Women’s Soccer Team?\nJoin us this Saturday\, August 16 at the Turf Field Athletic Complex! \nMorning Session: 11 AM – 12:45 PM\nAfternoon Session: 4 PM – 5:45 PM \nBELIEVE. BELONG. BECOME. And play the beautiful game with us! \nEmail Coach Jesse at jesse.novatski@keystone.edu — or just show up ready to play! \n 
URL:https://www.keystone.edu/event/womens-soccer-team-at-the-turf/
LOCATION:La Plume\, PA\, Turf Field Athletic Complex\, La Plume\, PA\, United States
CATEGORIES:Athletics
ORGANIZER;CN="Athletics":MAILTO:athletics@keystone.edu
GEO:41.558763;-75.769289
END:VEVENT
BEGIN:VEVENT
DTSTART;TZID=America/New_York:20250818T080000
DTEND;TZID=America/New_York:20250818T170000
DTSTAMP:20260423T112655
CREATED:20250324T185911Z
LAST-MODIFIED:20250515T182658Z
UID:10030327-1755504000-1755536400@www.keystone.edu
SUMMARY:Traditional Summer and summer 2 grades due
DESCRIPTION:UG Trad Sum and GR Trad Sum grades due\nUG Sum 2\, GR Sum 2\, and KCVC Sum 2 grades due
URL:https://www.keystone.edu/event/traditional-summer-and-summer-2-grades-due/
LOCATION:None
CATEGORIES:Academic Dates
ORGANIZER;CN="Registrar":MAILTO:registrar@keystone.edu
END:VEVENT
BEGIN:VEVENT
DTSTART;TZID=America/New_York:20250823T130000
DTEND;TZID=America/New_York:20250823T160000
DTSTAMP:20260423T112655
CREATED:20250819T201811Z
LAST-MODIFIED:20250819T203519Z
UID:10032690-1755954000-1755964800@www.keystone.edu
SUMMARY:New Resident Student Check-In
DESCRIPTION:Welcome new GIANTS!
URL:https://www.keystone.edu/event/new-resident-student-check-in/
LOCATION:College Green
CATEGORIES:Student Life and Activities
ORGANIZER;CN="Student Success":MAILTO:success@keystone.edu
END:VEVENT
BEGIN:VEVENT
DTSTART;TZID=America/New_York:20250823T163000
DTEND;TZID=America/New_York:20250823T173000
DTSTAMP:20260423T112655
CREATED:20250819T202021Z
LAST-MODIFIED:20250819T203621Z
UID:10032692-1755966600-1755970200@www.keystone.edu
SUMMARY:College Meet and Greet
DESCRIPTION:Kickstart your college journey by connecting with fellow students\, faculty\, and staff in a relaxed and friendly atmosphere (families are welcome to attend as well).
URL:https://www.keystone.edu/event/college-meet-and-greet/
LOCATION:Fireplace Lounge\, Hibbard Campus Center\, Factoryville\, PA 18419
CATEGORIES:Student Life and Activities
ORGANIZER;CN="Student Success":MAILTO:success@keystone.edu
GEO:41.5590559;-75.7773919
X-APPLE-STRUCTURED-LOCATION;VALUE=URI;X-ADDRESS=Fireplace Lounge Hibbard Campus Center Factoryville PA 18419;X-APPLE-RADIUS=500;X-TITLE=Hibbard Campus Center\, Factoryville\, PA 18419:geo:-75.7773919,41.5590559
END:VEVENT
BEGIN:VEVENT
DTSTART;TZID=America/New_York:20250823T163000
DTEND;TZID=America/New_York:20250823T180000
DTSTAMP:20260423T112655
CREATED:20250819T201919Z
LAST-MODIFIED:20250819T203603Z
UID:10032691-1755966600-1755972000@www.keystone.edu
SUMMARY:New Commuter Check-In
DESCRIPTION:Welcome Commuters!
URL:https://www.keystone.edu/event/new-commuter-check-in/
LOCATION:College Green
CATEGORIES:Student Life and Activities
ORGANIZER;CN="Student Success":MAILTO:success@keystone.edu
END:VEVENT
BEGIN:VEVENT
DTSTART;TZID=America/New_York:20250823T170000
DTEND;TZID=America/New_York:20250823T183000
DTSTAMP:20260423T112655
CREATED:20250819T202155Z
LAST-MODIFIED:20250819T203629Z
UID:10032693-1755968400-1755973800@www.keystone.edu
SUMMARY:Welcome Dinner
DESCRIPTION:Enjoy a bbq dinner before students dive into the excitement of Welcome Weekend! Families too!
URL:https://www.keystone.edu/event/welcome-dinner/
LOCATION:Student Restaurant
CATEGORIES:Student Life and Activities
ORGANIZER;CN="Student Success":MAILTO:success@keystone.edu
END:VEVENT
BEGIN:VEVENT
DTSTART;TZID=America/New_York:20250823T190000
DTEND;TZID=America/New_York:20250823T200000
DTSTAMP:20260423T112655
CREATED:20250819T202429Z
LAST-MODIFIED:20250819T203642Z
UID:10032694-1755975600-1755979200@www.keystone.edu
SUMMARY:Kick Off Activities
DESCRIPTION:Join us for Manning’s Ice Cream Truck at 7 \nSpeed Friending at 7:15 \nand BINGO at 7:45
URL:https://www.keystone.edu/event/kick-off-activities/
LOCATION:College Green
CATEGORIES:Student Life and Activities
ORGANIZER;CN="Student Life":MAILTO:studentlife@keystone.edu 
END:VEVENT
BEGIN:VEVENT
DTSTART;TZID=America/New_York:20250823T213000
DTEND;TZID=America/New_York:20250823T220000
DTSTAMP:20260423T112655
CREATED:20250821T175107Z
LAST-MODIFIED:20250821T175107Z
UID:10032715-1755984600-1755986400@www.keystone.edu
SUMMARY:First Floor Meeting
DESCRIPTION:Meet your Resident Assistant and fellow floor mates for your first hall meeting. Meet at your residence hall. \n 
URL:https://www.keystone.edu/event/first-floor-meeting/
LOCATION:None
CATEGORIES:Student Life and Activities
END:VEVENT
BEGIN:VEVENT
DTSTART;TZID=America/New_York:20250824T100000
DTEND;TZID=America/New_York:20250824T110000
DTSTAMP:20260423T112655
CREATED:20250819T202632Z
LAST-MODIFIED:20250819T203652Z
UID:10032695-1756029600-1756033200@www.keystone.edu
SUMMARY:FYS Brunch
DESCRIPTION:Join your First Year Seminar instructor and your classmates for a casual brunch. Reflect on orientation and get all your questions answered.
URL:https://www.keystone.edu/event/fys-brunch/
LOCATION:College Green
CATEGORIES:Student Life and Activities
ORGANIZER;CN="Student Success":MAILTO:success@keystone.edu
END:VEVENT
BEGIN:VEVENT
DTSTART;TZID=America/New_York:20250824T104500
DTEND;TZID=America/New_York:20250824T110000
DTSTAMP:20260423T112655
CREATED:20250821T175314Z
LAST-MODIFIED:20250821T201019Z
UID:10032716-1756032300-1756033200@www.keystone.edu
SUMMARY:Learn about GEE
DESCRIPTION:Learn about GEE and how the events will help you make the most of your College experience!
URL:https://www.keystone.edu/event/learn-about-gee/
LOCATION:College Green
CATEGORIES:Student Life and Activities
ORGANIZER;CN="Student Success":MAILTO:success@keystone.edu
END:VEVENT
BEGIN:VEVENT
DTSTART;TZID=America/New_York:20250824T110000
DTEND;TZID=America/New_York:20250824T113000
DTSTAMP:20260423T112655
CREATED:20250821T175455Z
LAST-MODIFIED:20250821T175455Z
UID:10032717-1756033200-1756035000@www.keystone.edu
SUMMARY:Rights and Responsibilities
DESCRIPTION:Join Carlyle Hicks\, Assistant Vice President of Resident and Student Life\, to learn how we create a safe and welcome community for all of our students.
URL:https://www.keystone.edu/event/rights-and-responsibilities/
LOCATION:Evans Hall\, Hibbard Campus Center\, La Plume\, PA\, 18440
CATEGORIES:Student Life and Activities
GEO:41.5590559;-75.7773919
X-APPLE-STRUCTURED-LOCATION;VALUE=URI;X-ADDRESS=Evans Hall Hibbard Campus Center La Plume PA 18440;X-APPLE-RADIUS=500;X-TITLE=Hibbard Campus Center:geo:-75.7773919,41.5590559
END:VEVENT
BEGIN:VEVENT
DTSTART;TZID=America/New_York:20250824T113000
DTEND;TZID=America/New_York:20250824T123000
DTSTAMP:20260423T112655
CREATED:20250819T202817Z
LAST-MODIFIED:20250819T203702Z
UID:10032696-1756035000-1756038600@www.keystone.edu
SUMMARY:New Students Class Photo
DESCRIPTION:Grab a T-Shirt and head over to Gambal for a group photo!
URL:https://www.keystone.edu/event/new-students-class-photo/
LOCATION:Gambal Athletic Center
CATEGORIES:Student Life and Activities
ORGANIZER;CN="Student Success":MAILTO:success@keystone.edu
END:VEVENT
BEGIN:VEVENT
DTSTART;TZID=America/New_York:20250824T120000
DTEND;TZID=America/New_York:20250824T123000
DTSTAMP:20260423T112655
CREATED:20250819T202949Z
LAST-MODIFIED:20250819T203711Z
UID:10032698-1756036800-1756038600@www.keystone.edu
SUMMARY:Mapping Different Perspectives
DESCRIPTION:Learn more about the Keystone community and learn about opportunities for enhancing the diversity and inclusivity of our campus\, as well as clear guidelines for reporting incidents of bias.
URL:https://www.keystone.edu/event/mapping-different-perspectives/
LOCATION:Theatre in Brooks\, Brooks\, Factoryville\, PA 18419
CATEGORIES:Student Life and Activities
ORGANIZER;CN="Student Success":MAILTO:success@keystone.edu
GEO:41.560052;-75.773977
X-APPLE-STRUCTURED-LOCATION;VALUE=URI;X-ADDRESS=Theatre in Brooks Brooks Factoryville PA 18419;X-APPLE-RADIUS=500;X-TITLE=Brooks\, Factoryville\, PA 18419:geo:-75.773977,41.560052
END:VEVENT
BEGIN:VEVENT
DTSTART;TZID=America/New_York:20250824T120000
DTEND;TZID=America/New_York:20250824T123000
DTSTAMP:20260423T112655
CREATED:20250821T135326Z
LAST-MODIFIED:20250821T135326Z
UID:10032713-1756036800-1756038600@www.keystone.edu
SUMMARY:Title IX Training
DESCRIPTION:Learn more about the Keystone community and opportunities for enhancing the diversity and inclusivity of our campus\, as well as clear guidelines for reporting incidents of bias
URL:https://www.keystone.edu/event/title-ix-training/
LOCATION:Theatre in Brooks\, Brooks\, Factoryville\, PA 18419
CATEGORIES:Student Life and Activities
ORGANIZER;CN="Student Success":MAILTO:success@keystone.edu
GEO:41.560052;-75.773977
X-APPLE-STRUCTURED-LOCATION;VALUE=URI;X-ADDRESS=Theatre in Brooks Brooks Factoryville PA 18419;X-APPLE-RADIUS=500;X-TITLE=Brooks\, Factoryville\, PA 18419:geo:-75.773977,41.560052
END:VEVENT
BEGIN:VEVENT
DTSTART;TZID=America/New_York:20250824T123000
DTEND;TZID=America/New_York:20250824T130000
DTSTAMP:20260423T112655
CREATED:20250819T203137Z
LAST-MODIFIED:20250819T203719Z
UID:10032699-1756038600-1756040400@www.keystone.edu
SUMMARY:Student Well-Being
DESCRIPTION:Join Counseling and Well Being and learn about resources and prevention here at Keystone. \n\nSex with the Lights on\nMental Health and Well-Being
URL:https://www.keystone.edu/event/student-well-being/
LOCATION:Theatre in Brooks\, Brooks\, Factoryville\, PA 18419
CATEGORIES:Student Life and Activities
ORGANIZER;CN="Student Success":MAILTO:success@keystone.edu
GEO:41.560052;-75.773977
X-APPLE-STRUCTURED-LOCATION;VALUE=URI;X-ADDRESS=Theatre in Brooks Brooks Factoryville PA 18419;X-APPLE-RADIUS=500;X-TITLE=Brooks\, Factoryville\, PA 18419:geo:-75.773977,41.560052
END:VEVENT
BEGIN:VEVENT
DTSTART;TZID=America/New_York:20250824T130000
DTEND;TZID=America/New_York:20250824T140000
DTSTAMP:20260423T112655
CREATED:20250821T175633Z
LAST-MODIFIED:20250821T175945Z
UID:10032718-1756040400-1756044000@www.keystone.edu
SUMMARY:Walk your schedule
DESCRIPTION:A student leader will lead you and a group across campus to ensure you know the building locations and are ready for the first day of classes.
URL:https://www.keystone.edu/event/walk-your-schedule/
LOCATION:Campus-Wide\, One College Green\, La Plume\, PA\, 18440
CATEGORIES:Student Life and Activities
ATTACH;FMTTYPE=image/jpeg:https://www.keystone.edu/wp-content/uploads/2025/08/ww2025-2.jpg
ORGANIZER;CN="Student Success":MAILTO:success@keystone.edu
GEO:41.5600392;-75.7733499
X-APPLE-STRUCTURED-LOCATION;VALUE=URI;X-ADDRESS=Campus-Wide One College Green La Plume PA 18440;X-APPLE-RADIUS=500;X-TITLE=One College Green:geo:-75.7733499,41.5600392
END:VEVENT
BEGIN:VEVENT
DTSTART;TZID=America/New_York:20250824T160000
DTEND;TZID=America/New_York:20250824T190000
DTSTAMP:20260423T112655
CREATED:20250819T203247Z
LAST-MODIFIED:20250819T203729Z
UID:10032701-1756051200-1756062000@www.keystone.edu
SUMMARY:Welcome Back Bash
DESCRIPTION:All are welcome! Celebrate the start of your college journey with music\, games\, and friends!
URL:https://www.keystone.edu/event/welcome-back-bash-2/
LOCATION:College Green
CATEGORIES:Student Life and Activities
ORGANIZER;CN="Student Success":MAILTO:success@keystone.edu
END:VEVENT
BEGIN:VEVENT
DTSTART;TZID=America/New_York:20250825T080000
DTEND;TZID=America/New_York:20250825T170000
DTSTAMP:20260423T112655
CREATED:20240129T185250Z
LAST-MODIFIED:20250515T180246Z
UID:10028439-1756108800-1756141200@www.keystone.edu
SUMMARY:Traditional classes begin
DESCRIPTION:
URL:https://www.keystone.edu/event/traditional-classes-begin/
LOCATION:None
CATEGORIES:Academic Dates
ORGANIZER;CN="Registrar":MAILTO:registrar@keystone.edu
END:VEVENT
BEGIN:VEVENT
DTSTART;TZID=America/New_York:20250825T080000
DTEND;TZID=America/New_York:20250825T170000
DTSTAMP:20260423T112655
CREATED:20240131T164024Z
LAST-MODIFIED:20250515T180352Z
UID:10028485-1756108800-1756141200@www.keystone.edu
SUMMARY:First-half graduate classes begin
DESCRIPTION:
URL:https://www.keystone.edu/event/first-half-graduate-classes-begin-2/
LOCATION:None
CATEGORIES:Academic Dates
ORGANIZER;CN="Registrar":MAILTO:registrar@keystone.edu
END:VEVENT
BEGIN:VEVENT
DTSTART;TZID=America/New_York:20250825T080000
DTEND;TZID=America/New_York:20250825T170000
DTSTAMP:20260423T112655
CREATED:20240131T164449Z
LAST-MODIFIED:20250515T180406Z
UID:10028489-1756108800-1756141200@www.keystone.edu
SUMMARY:First-half KCVC classes begin
DESCRIPTION:
URL:https://www.keystone.edu/event/first-half-kcvc-classes-begin-2/
LOCATION:None
CATEGORIES:Academic Dates
ORGANIZER;CN="Registrar":MAILTO:registrar@keystone.edu
END:VEVENT
BEGIN:VEVENT
DTSTART;TZID=America/New_York:20250825T090000
DTEND;TZID=America/New_York:20250825T150000
DTSTAMP:20260423T112655
CREATED:20250811T183134Z
LAST-MODIFIED:20250811T183134Z
UID:10032630-1756112400-1756134000@www.keystone.edu
SUMMARY:Immunization / Physical Clinic
DESCRIPTION:The Wright Center will be here on campus from 9am-3pm with a mobile health van for physicals or needed immunizations
URL:https://www.keystone.edu/event/immunization-physical-clinic/
CATEGORIES:Student Life and Activities
ORGANIZER;CN="Sherri Bouselli":MAILTO:sherri.bouselli@keystone.edu
END:VEVENT
BEGIN:VEVENT
DTSTART;TZID=America/New_York:20250826T120000
DTEND;TZID=America/New_York:20250826T140000
DTSTAMP:20260423T112655
CREATED:20250819T200604Z
LAST-MODIFIED:20250821T135451Z
UID:10032641-1756209600-1756216800@www.keystone.edu
SUMMARY:Stuff a Plush
DESCRIPTION:Create your own fuzzy friend to take home
URL:https://www.keystone.edu/event/stuff-a-plush/
LOCATION:Hibbard Campus Center – 3rd Floor (top level)
CATEGORIES:Student Life and Activities
ORGANIZER;CN="Student Life":MAILTO:studentlife@keystone.edu 
GEO:41.5631327;-75.7826932
END:VEVENT
BEGIN:VEVENT
DTSTART;TZID=America/New_York:20250826T210000
DTEND;TZID=America/New_York:20250826T230000
DTSTAMP:20260423T112655
CREATED:20250819T200638Z
LAST-MODIFIED:20250821T135452Z
UID:10032642-1756242000-1756249200@www.keystone.edu
SUMMARY:DJ Bingo
DESCRIPTION:Enjoy bingo with a fun twist – music\, food and prizes
URL:https://www.keystone.edu/event/dj-bingo/
LOCATION:Student Restaurant
CATEGORIES:Student Life and Activities
ORGANIZER;CN="Student Life":MAILTO:studentlife@keystone.edu 
END:VEVENT
BEGIN:VEVENT
DTSTART;TZID=America/New_York:20250827T113000
DTEND;TZID=America/New_York:20250827T143000
DTSTAMP:20260423T112655
CREATED:20250811T183512Z
LAST-MODIFIED:20250821T135453Z
UID:10032633-1756294200-1756305000@www.keystone.edu
SUMMARY:UV Safety
DESCRIPTION:Stop by the Counseling/Well-being Center and visit our informational table on UV safety
URL:https://www.keystone.edu/event/uv-safety/
LOCATION:Counseling and Well-Being Center (Tewksbury)
CATEGORIES:Student Life and Activities
ORGANIZER;CN="Sherri Bouselli":MAILTO:sherri.bouselli@keystone.edu
END:VEVENT
BEGIN:VEVENT
DTSTART;TZID=America/New_York:20250827T210000
DTEND;TZID=America/New_York:20250827T223000
DTSTAMP:20260423T112655
CREATED:20250819T200639Z
LAST-MODIFIED:20250821T214630Z
UID:10032643-1756328400-1756333800@www.keystone.edu
SUMMARY:Lip Sync/Karaoke Night
DESCRIPTION:Show off your singing (or lip-syncing) skills
URL:https://www.keystone.edu/event/lip-sync-karaoke-night/
LOCATION:Giants’ Den
CATEGORIES:Student Life and Activities
ORGANIZER;CN="Student Life":MAILTO:studentlife@keystone.edu 
END:VEVENT
BEGIN:VEVENT
DTSTART;TZID=America/New_York:20250828T090000
DTEND;TZID=America/New_York:20250828T150000
DTSTAMP:20260423T112655
CREATED:20250811T183353Z
LAST-MODIFIED:20250811T183353Z
UID:10032632-1756371600-1756393200@www.keystone.edu
SUMMARY:STI Clinic
DESCRIPTION:Caring Communities will be here for a free STI clinic in Tewksbury hall (well-being center) from 11am til 2pm
URL:https://www.keystone.edu/event/sti-clinic-4/
LOCATION:Counseling and Well-Being Center (Tewksbury)
CATEGORIES:Student Life and Activities
ORGANIZER;CN="Sherri Bouselli":MAILTO:sherri.bouselli@keystone.edu
END:VEVENT
BEGIN:VEVENT
DTSTART;TZID=America/New_York:20250828T123000
DTEND;TZID=America/New_York:20250828T140000
DTSTAMP:20260423T112655
CREATED:20240129T185656Z
LAST-MODIFIED:20250818T205900Z
UID:10028440-1756384200-1756389600@www.keystone.edu
SUMMARY:President’s Opening Convocation
DESCRIPTION:Celebrate the official opening of the 2025-2026 academic year during the President’s Opening Convocation. All first-year students are required to attend; all new transfer students are encouraged to attend.\n\n\n\nStudents should gather in front of Capwell Science Hall at 12:25 p.m. where they will be led to Brooks by the College Marshal Professor Sherry Strain\, Ph.D. In the event of rain\, students should bring an umbrella.
URL:https://www.keystone.edu/event/opening-convocation/
LOCATION:Theatre in Brooks\, Brooks\, Factoryville\, PA 18419
CATEGORIES:Academic Dates
ORGANIZER;CN="Academic Affairs":MAILTO:academicaffairs@keystone.edu
GEO:41.560052;-75.773977
X-APPLE-STRUCTURED-LOCATION;VALUE=URI;X-ADDRESS=Theatre in Brooks Brooks Factoryville PA 18419;X-APPLE-RADIUS=500;X-TITLE=Brooks\, Factoryville\, PA 18419:geo:-75.773977,41.560052
END:VEVENT
BEGIN:VEVENT
DTSTART;TZID=America/New_York:20250828T184500
DTEND;TZID=America/New_York:20250828T193000
DTSTAMP:20260423T112655
CREATED:20250819T200640Z
LAST-MODIFIED:20250828T152902Z
UID:10032644-1756406700-1756409400@www.keystone.edu
SUMMARY:Labor Day Cookout
DESCRIPTION:Grab some grub and enjoy good vibes
URL:https://www.keystone.edu/event/labor-day-cookout/
LOCATION:Student Restaurant
CATEGORIES:Student Life and Activities
ORGANIZER;CN="Student Life":MAILTO:studentlife@keystone.edu 
END:VEVENT
BEGIN:VEVENT
DTSTART;VALUE=DATE:20250829
DTEND;VALUE=DATE:20250830
DTSTAMP:20260423T112655
CREATED:20250819T200933Z
LAST-MODIFIED:20250821T135729Z
UID:10032645-1756425600-1756511999@www.keystone.edu
SUMMARY:Sidewalk Chalk Contest
DESCRIPTION:Get creative with chalk art on the sidewalk
URL:https://www.keystone.edu/event/sidewalk-chalk-contest/
LOCATION:Campus-Wide\, One College Green\, La Plume\, PA\, 18440
CATEGORIES:Student Life and Activities
ORGANIZER;CN="Student Life":MAILTO:studentlife@keystone.edu 
GEO:41.5600392;-75.7733499
X-APPLE-STRUCTURED-LOCATION;VALUE=URI;X-ADDRESS=Campus-Wide One College Green La Plume PA 18440;X-APPLE-RADIUS=500;X-TITLE=One College Green:geo:-75.7733499,41.5600392
END:VEVENT
BEGIN:VEVENT
DTSTART;TZID=America/New_York:20250829T080000
DTEND;TZID=America/New_York:20250829T170000
DTSTAMP:20260423T112655
CREATED:20250515T180708Z
LAST-MODIFIED:20250515T180708Z
UID:10030376-1756454400-1756486800@www.keystone.edu
SUMMARY:All Fall Attendance Due
DESCRIPTION:
URL:https://www.keystone.edu/event/all-fall-attendance-due/
LOCATION:None
CATEGORIES:Academic Dates
ORGANIZER;CN="Registrar":MAILTO:registrar@keystone.edu
END:VEVENT
BEGIN:VEVENT
DTSTART;TZID=America/New_York:20250829T080000
DTEND;TZID=America/New_York:20250829T170000
DTSTAMP:20260423T112655
CREATED:20250515T180938Z
LAST-MODIFIED:20250515T181049Z
UID:10030377-1756454400-1756486800@www.keystone.edu
SUMMARY:Last day to add or drop first-half course without notation (W)
DESCRIPTION:Last day to add/drop a UG Fall 1\, GR Fall 1\, and KCVC Fall 1 course without notation (W)
URL:https://www.keystone.edu/event/last-day-to-add-or-drop-first-half-course-without-notation-w/
LOCATION:None
CATEGORIES:Academic Dates
ORGANIZER;CN="Registrar":MAILTO:registrar@keystone.edu
END:VEVENT
BEGIN:VEVENT
DTSTART;TZID=America/New_York:20250829T183000
DTEND;TZID=America/New_York:20250829T203000
DTSTAMP:20260423T112655
CREATED:20250819T200856Z
LAST-MODIFIED:20250819T200856Z
UID:10032669-1756492200-1756499400@www.keystone.edu
SUMMARY:Shuttle Run
DESCRIPTION:Hop on the shuttle for easy transport around town
URL:https://www.keystone.edu/event/shuttle-run/
LOCATION:Campus Safety (Hollinshead)
CATEGORIES:Student Life and Activities
ORGANIZER;CN="Student Life":MAILTO:studentlife@keystone.edu 
END:VEVENT
END:VCALENDAR