BEGIN:VCALENDAR
VERSION:2.0
PRODID:-//Keystone College - ECPv6.15.17.1//NONSGML v1.0//EN
CALSCALE:GREGORIAN
METHOD:PUBLISH
X-ORIGINAL-URL:https://www.keystone.edu
X-WR-CALDESC:Events for Keystone College
REFRESH-INTERVAL;VALUE=DURATION:PT1H
X-Robots-Tag:noindex
X-PUBLISHED-TTL:PT1H
BEGIN:VTIMEZONE
TZID:America/New_York
BEGIN:DAYLIGHT
TZOFFSETFROM:-0500
TZOFFSETTO:-0400
TZNAME:EDT
DTSTART:20240310T070000
END:DAYLIGHT
BEGIN:STANDARD
TZOFFSETFROM:-0400
TZOFFSETTO:-0500
TZNAME:EST
DTSTART:20241103T060000
END:STANDARD
BEGIN:DAYLIGHT
TZOFFSETFROM:-0500
TZOFFSETTO:-0400
TZNAME:EDT
DTSTART:20250309T070000
END:DAYLIGHT
BEGIN:STANDARD
TZOFFSETFROM:-0400
TZOFFSETTO:-0500
TZNAME:EST
DTSTART:20251102T060000
END:STANDARD
BEGIN:DAYLIGHT
TZOFFSETFROM:-0500
TZOFFSETTO:-0400
TZNAME:EDT
DTSTART:20260308T070000
END:DAYLIGHT
BEGIN:STANDARD
TZOFFSETFROM:-0400
TZOFFSETTO:-0500
TZNAME:EST
DTSTART:20261101T060000
END:STANDARD
END:VTIMEZONE
BEGIN:VEVENT
DTSTART;TZID=America/New_York:20250703T080000
DTEND;TZID=America/New_York:20250703T170000
DTSTAMP:20260423T081040
CREATED:20250324T185043Z
LAST-MODIFIED:20250324T191001Z
UID:10030318-1751529600-1751562000@www.keystone.edu
SUMMARY:Summer 1 courses end
DESCRIPTION:UG Sum 1\, GR Sum 1\, and KCVC Sum 1 courses end
URL:https://www.keystone.edu/event/summer-1-courses-end/
LOCATION:None
CATEGORIES:Academic Dates
ORGANIZER;CN="Registrar":MAILTO:registrar@keystone.edu
END:VEVENT
BEGIN:VEVENT
DTSTART;TZID=America/New_York:20250704T080000
DTEND;TZID=America/New_York:20250704T170000
DTSTAMP:20260423T081040
CREATED:20250324T185134Z
LAST-MODIFIED:20250324T185134Z
UID:10030319-1751616000-1751648400@www.keystone.edu
SUMMARY:Independence Day College Closed
DESCRIPTION:Independence Day\nCollege Closed
URL:https://www.keystone.edu/event/independence-day-college-closed/
LOCATION:None
CATEGORIES:Academic Dates
END:VEVENT
BEGIN:VEVENT
DTSTART;TZID=America/New_York:20250707T080000
DTEND;TZID=America/New_York:20250707T170000
DTSTAMP:20260423T081040
CREATED:20250324T185304Z
LAST-MODIFIED:20250324T192234Z
UID:10030320-1751875200-1751907600@www.keystone.edu
SUMMARY:Summer 1 grades due
DESCRIPTION:UG Sum 1\, GR Sum 1\, and KCVC Sum 1 grades due \n 
URL:https://www.keystone.edu/event/summer-1-grades-due/
LOCATION:None
CATEGORIES:Academic Dates
ORGANIZER;CN="Registrar":MAILTO:registrar@keystone.edu
END:VEVENT
BEGIN:VEVENT
DTSTART;TZID=America/New_York:20250707T080000
DTEND;TZID=America/New_York:20250707T170000
DTSTAMP:20260423T081040
CREATED:20250324T185344Z
LAST-MODIFIED:20250324T190943Z
UID:10030321-1751875200-1751907600@www.keystone.edu
SUMMARY:Summer 2 courses begin
DESCRIPTION:UG Sum 2\, GR Sum 2\, and KCVC Sum 2 begin
URL:https://www.keystone.edu/event/summer-2-courses-begin/
LOCATION:None
CATEGORIES:Academic Dates
ORGANIZER;CN="Registrar":MAILTO:registrar@keystone.edu
END:VEVENT
BEGIN:VEVENT
DTSTART;TZID=America/New_York:20250709T080000
DTEND;TZID=America/New_York:20250709T170000
DTSTAMP:20260423T081040
CREATED:20250324T185420Z
LAST-MODIFIED:20250324T190923Z
UID:10030322-1752048000-1752080400@www.keystone.edu
SUMMARY:Last day to add/drop summer 2 course without notation
DESCRIPTION:Last day to add/drop a UG Sum 2\, GR Sum 2\, and KCVC Sum 2 course with-out notation (W)
URL:https://www.keystone.edu/event/last-day-to-add-drop-summer-2-course-without-notation/
LOCATION:None
CATEGORIES:Academic Dates
ORGANIZER;CN="Registrar":MAILTO:registrar@keystone.edu
END:VEVENT
BEGIN:VEVENT
DTSTART;TZID=America/New_York:20250710T080000
DTEND;TZID=America/New_York:20250710T170000
DTSTAMP:20260423T081040
CREATED:20250324T185449Z
LAST-MODIFIED:20250324T190903Z
UID:10030323-1752134400-1752166800@www.keystone.edu
SUMMARY:Summer 2 attendance due
DESCRIPTION:UG Sum 2\, GR Sum 2\, and KCVC Sum 2 attendance due
URL:https://www.keystone.edu/event/summer-2-attendance-due/
LOCATION:None
CATEGORIES:Academic Dates
ORGANIZER;CN="Registrar":MAILTO:registrar@keystone.edu
END:VEVENT
BEGIN:VEVENT
DTSTART;TZID=America/New_York:20250713T100000
DTEND;TZID=America/New_York:20250713T130000
DTSTAMP:20260423T081040
CREATED:20250611T173926Z
LAST-MODIFIED:20250611T173926Z
UID:10031882-1752400800-1752411600@www.keystone.edu
SUMMARY:Keystone College Football Prospect Camp - July 13
DESCRIPTION:Sunday\, July 13th \n10:45 AM Registration\n11:15 AM Welcome & Introductions\n11:30-2:30 PM Practice \n*Campus Tours Available both before (9:45AM) and after (3:00PM)* \nThis Camp is for Student-Athletes entering 10th-12th grade in the Fall of 2025. \nOnce you register\, you will receive a confirmation email\, along with payment information and waiver forms. We will also send a Schedule and Reminder the week leading up to the Prospect Camp \nCost of the camp is $30. All those pre-registered will receive a T-shirt. \n\nRegister here
URL:https://www.keystone.edu/event/keystone-college-football-prospect-camp-july-13/
LOCATION:La Plume\, PA\, Turf Field Athletic Complex\, La Plume\, PA\, United States
GEO:41.558763;-75.769289
END:VEVENT
BEGIN:VEVENT
DTSTART;TZID=America/New_York:20250713T190000
DTEND;TZID=America/New_York:20250713T200000
DTSTAMP:20260423T081040
CREATED:20240531T135511Z
LAST-MODIFIED:20250710T143329Z
UID:10025497-1752433200-1752436800@www.keystone.edu
SUMMARY:Performance Music Jazz Night At The Eckel Family Pavilion (New Location)
DESCRIPTION:New\, INDOOR location – same fun\, FREE summer jazz concert and party at Keystone on Sunday\, July 13th at 7 pm! Due to our concern over the safety of our guests with scattered thunderstorms\, the Jazz Night at Keystone has been moved to The Theatre in Brooks on our campus. \nIn a comfortable\, inddoor\, air conditioned environment\, we will still have free wine tasting\, treats for kids\, and food and beverages available for purchase. You can also still BYOB wine and beer. \nIn addition\, we have the theatre set up with comfortable chairs and tables for our guests\, as well as a fun summer décor. Attendees are encouraged to maintain the same summer “yard party” type atmosphere and eat\, converse\, move around the hall\, and simply enjoy themselves in a casual environment as the KC Jazz Ensemble and guest musicians supply the background music. This is a great event for children to come and enjoy music without having to be quiet as in a traditional concert setting\, as well. We hope to see you there! \nIn addition to the music\, you can still enjoy:\n* wine tasting and small glasses available for purchase for adults\n* food and beverages available for purchase \, and you can bring your own food\, and even BYOB adult beverages if over 21 (Campus Safety will be checking IDs)\n* FREE s’mores for any kids in attendance! \nIf you have any questions\, please feel free to email music@keystone.edu or call 570-945-8599. \n 
URL:https://www.keystone.edu/event/performance-music-jazz-night-at-the-eckel-family-pavilion/
LOCATION:Theatre in Brooks\, Brooks\, Factoryville\, PA 18419
CATEGORIES:Faculty or Staff,Music,Public/Community Events,Student Life and Activities
ORGANIZER;CN="Jeffrey Tylutki":MAILTO:jeffrey.tylutki@keystone.edu
GEO:41.560052;-75.773977
X-APPLE-STRUCTURED-LOCATION;VALUE=URI;X-ADDRESS=Theatre in Brooks Brooks Factoryville PA 18419;X-APPLE-RADIUS=500;X-TITLE=Brooks\, Factoryville\, PA 18419:geo:-75.773977,41.560052
END:VEVENT
BEGIN:VEVENT
DTSTART;TZID=America/New_York:20250723T080000
DTEND;TZID=America/New_York:20250723T170000
DTSTAMP:20260423T081040
CREATED:20250324T185543Z
LAST-MODIFIED:20250324T191817Z
UID:10030324-1753257600-1753290000@www.keystone.edu
SUMMARY:Last day to withdraw from a Traditional Summer and Traditional Summer 2 course with notation (W)
DESCRIPTION:Last day to withdraw from a UG Trad Sum and GR Trad Sum 2 course with notation (W)
URL:https://www.keystone.edu/event/last-day-to-withdraw-from-a-traditional-summer-and-traditional-summer-2-course-with-notation-w/
LOCATION:None
CATEGORIES:Academic Dates
ORGANIZER;CN="Registrar":MAILTO:registrar@keystone.edu
END:VEVENT
END:VCALENDAR