BEGIN:VCALENDAR
VERSION:2.0
PRODID:-//Keystone College - ECPv6.15.17.1//NONSGML v1.0//EN
CALSCALE:GREGORIAN
METHOD:PUBLISH
X-ORIGINAL-URL:https://www.keystone.edu
X-WR-CALDESC:Events for Keystone College
REFRESH-INTERVAL;VALUE=DURATION:PT1H
X-Robots-Tag:noindex
X-PUBLISHED-TTL:PT1H
BEGIN:VTIMEZONE
TZID:America/New_York
BEGIN:DAYLIGHT
TZOFFSETFROM:-0500
TZOFFSETTO:-0400
TZNAME:EDT
DTSTART:20240310T070000
END:DAYLIGHT
BEGIN:STANDARD
TZOFFSETFROM:-0400
TZOFFSETTO:-0500
TZNAME:EST
DTSTART:20241103T060000
END:STANDARD
BEGIN:DAYLIGHT
TZOFFSETFROM:-0500
TZOFFSETTO:-0400
TZNAME:EDT
DTSTART:20250309T070000
END:DAYLIGHT
BEGIN:STANDARD
TZOFFSETFROM:-0400
TZOFFSETTO:-0500
TZNAME:EST
DTSTART:20251102T060000
END:STANDARD
BEGIN:DAYLIGHT
TZOFFSETFROM:-0500
TZOFFSETTO:-0400
TZNAME:EDT
DTSTART:20260308T070000
END:DAYLIGHT
BEGIN:STANDARD
TZOFFSETFROM:-0400
TZOFFSETTO:-0500
TZNAME:EST
DTSTART:20261101T060000
END:STANDARD
END:VTIMEZONE
BEGIN:VEVENT
DTSTART;VALUE=DATE:20251010
DTEND;VALUE=DATE:20251013
DTSTAMP:20260419T093138
CREATED:20240901T132636Z
LAST-MODIFIED:20250908T143323Z
UID:10024905-1760054400-1760313599@www.keystone.edu
SUMMARY:Homecoming and Family Weekend
DESCRIPTION:Homecoming and Family Weekend at Keystone College unites the past with the present\, creating a wonderful opportunity for alumni to rekindle ties with old classmates and families to reconnect with their students. Join our students\, alumni\, families\, and friends for our annual gathering to celebrate campus pride and experience life at Keystone College. \nFor more information\, visit: https://www.keystone.edu/homecoming \n 
URL:https://www.keystone.edu/event/homecoming-and-family-weekend/
LOCATION:Campus-Wide\, One College Green\, La Plume\, PA\, 18440
CATEGORIES:Alumni Event,College-wide Events,Faculty or Staff,Public/Community Events,Student Life and Activities
ORGANIZER;CN="Alumni Relations":MAILTO:alumnirelations@keystone.edu
GEO:41.5600392;-75.7733499
X-APPLE-STRUCTURED-LOCATION;VALUE=URI;X-ADDRESS=Campus-Wide One College Green La Plume PA 18440;X-APPLE-RADIUS=500;X-TITLE=One College Green:geo:-75.7733499,41.5600392
END:VEVENT
BEGIN:VEVENT
DTSTART;TZID=America/New_York:20251021T123000
DTEND;TZID=America/New_York:20251021T140000
DTSTAMP:20260419T093138
CREATED:20251016T192645Z
LAST-MODIFIED:20251016T192645Z
UID:10032976-1761049800-1761055200@www.keystone.edu
SUMMARY:SBS Guest Speaker Series
DESCRIPTION:On Tues\, 10/21\, join us in the fireplace lounge at 12:30 as alumni Robert Van Wert from the Wright Center and James Luke\, a formerly incarcerated individual\, provide students with valuable perspectives on the criminal justice system and human services fields.
URL:https://www.keystone.edu/event/sbs-guest-speaker-series-2/
LOCATION:Fireplace Lounge\, Hibbard Campus Center\, Factoryville\, PA 18419
CATEGORIES:College-wide Events
ORGANIZER;CN="Stacey Wyland":MAILTO:stacey.wyland@keystone.edu
GEO:41.5590559;-75.7773919
X-APPLE-STRUCTURED-LOCATION;VALUE=URI;X-ADDRESS=Fireplace Lounge Hibbard Campus Center Factoryville PA 18419;X-APPLE-RADIUS=500;X-TITLE=Hibbard Campus Center\, Factoryville\, PA 18419:geo:-75.7773919,41.5590559
END:VEVENT
END:VCALENDAR