BEGIN:VCALENDAR
VERSION:2.0
PRODID:-//Keystone College - ECPv6.15.17.1//NONSGML v1.0//EN
CALSCALE:GREGORIAN
METHOD:PUBLISH
X-ORIGINAL-URL:https://www.keystone.edu
X-WR-CALDESC:Events for Keystone College
REFRESH-INTERVAL;VALUE=DURATION:PT1H
X-Robots-Tag:noindex
X-PUBLISHED-TTL:PT1H
BEGIN:VTIMEZONE
TZID:America/New_York
BEGIN:DAYLIGHT
TZOFFSETFROM:-0500
TZOFFSETTO:-0400
TZNAME:EDT
DTSTART:20240310T070000
END:DAYLIGHT
BEGIN:STANDARD
TZOFFSETFROM:-0400
TZOFFSETTO:-0500
TZNAME:EST
DTSTART:20241103T060000
END:STANDARD
BEGIN:DAYLIGHT
TZOFFSETFROM:-0500
TZOFFSETTO:-0400
TZNAME:EDT
DTSTART:20250309T070000
END:DAYLIGHT
BEGIN:STANDARD
TZOFFSETFROM:-0400
TZOFFSETTO:-0500
TZNAME:EST
DTSTART:20251102T060000
END:STANDARD
BEGIN:DAYLIGHT
TZOFFSETFROM:-0500
TZOFFSETTO:-0400
TZNAME:EDT
DTSTART:20260308T070000
END:DAYLIGHT
BEGIN:STANDARD
TZOFFSETFROM:-0400
TZOFFSETTO:-0500
TZNAME:EST
DTSTART:20261101T060000
END:STANDARD
END:VTIMEZONE
BEGIN:VEVENT
DTSTART;TZID=America/New_York:20250427T190000
DTEND;TZID=America/New_York:20250427T200000
DTSTAMP:20260425T090959
CREATED:20250417T140907Z
LAST-MODIFIED:20250417T141116Z
UID:10030356-1745780400-1745784000@www.keystone.edu
SUMMARY:Performance Music Spring Concert
DESCRIPTION:We are honored to invite you to the Keystone College Spring Concert on April 27 at 7 p.m. – FREE\, no registration required. \nFeaturing the KC Symphonic Band & Vocal Ensembles\, this event is sure to offer something for all musical tastes. Complimentary refreshments available after the show\, and all STUDENTS in attendance can enter to win a VISA gift card! \nThe concert will take place in The Theatre at Brooks on our campus. \nPlease email music@keystone.edu\, visit www.facebook.com/musicatkeystone \, or call 570-945-8599 for more information \n 
URL:https://www.keystone.edu/event/performance-music-spring-concert/
LOCATION:Theatre in Brooks\, Brooks\, Factoryville\, PA 18419
CATEGORIES:College-wide Events,Music,Public/Community Events,Student Life and Activities
ATTACH;FMTTYPE=image/jpeg:https://www.keystone.edu/wp-content/uploads/2025/04/2025springsympvocal.jpg
ORGANIZER;CN="Jeffrey Tylutki":MAILTO:jeffrey.tylutki@keystone.edu
GEO:41.560052;-75.773977
X-APPLE-STRUCTURED-LOCATION;VALUE=URI;X-ADDRESS=Theatre in Brooks Brooks Factoryville PA 18419;X-APPLE-RADIUS=500;X-TITLE=Brooks\, Factoryville\, PA 18419:geo:-75.773977,41.560052
END:VEVENT
END:VCALENDAR