BEGIN:VCALENDAR
VERSION:2.0
PRODID:-//Keystone College - ECPv6.15.17.1//NONSGML v1.0//EN
CALSCALE:GREGORIAN
METHOD:PUBLISH
X-WR-CALNAME:Keystone College
X-ORIGINAL-URL:https://www.keystone.edu
X-WR-CALDESC:Events for Keystone College
REFRESH-INTERVAL;VALUE=DURATION:PT1H
X-Robots-Tag:noindex
X-PUBLISHED-TTL:PT1H
BEGIN:VTIMEZONE
TZID:America/New_York
BEGIN:DAYLIGHT
TZOFFSETFROM:-0500
TZOFFSETTO:-0400
TZNAME:EDT
DTSTART:20250309T070000
END:DAYLIGHT
BEGIN:STANDARD
TZOFFSETFROM:-0400
TZOFFSETTO:-0500
TZNAME:EST
DTSTART:20251102T060000
END:STANDARD
BEGIN:DAYLIGHT
TZOFFSETFROM:-0500
TZOFFSETTO:-0400
TZNAME:EDT
DTSTART:20260308T070000
END:DAYLIGHT
BEGIN:STANDARD
TZOFFSETFROM:-0400
TZOFFSETTO:-0500
TZNAME:EST
DTSTART:20261101T060000
END:STANDARD
BEGIN:DAYLIGHT
TZOFFSETFROM:-0500
TZOFFSETTO:-0400
TZNAME:EDT
DTSTART:20270314T070000
END:DAYLIGHT
BEGIN:STANDARD
TZOFFSETFROM:-0400
TZOFFSETTO:-0500
TZNAME:EST
DTSTART:20271107T060000
END:STANDARD
END:VTIMEZONE
BEGIN:VEVENT
DTSTART;TZID=America/New_York:20260430T123000
DTEND;TZID=America/New_York:20260430T140000
DTSTAMP:20260423T080705
CREATED:20240525T162717Z
LAST-MODIFIED:20250519T172455Z
UID:10025474-1777552200-1777557600@www.keystone.edu
SUMMARY:All Honors Convocation
DESCRIPTION:Celebrate the academic achievements of students and accomplishments of colleagues during All-College Honors Convocation.
URL:https://www.keystone.edu/event/all-honors-convocation/
LOCATION:Theatre in Brooks\, Brooks\, Factoryville\, PA 18419
CATEGORIES:Academic Dates,Featured
ORGANIZER;CN="Shirley Michaels":MAILTO:shirley.michaels@keystone.edu
GEO:41.560052;-75.773977
X-APPLE-STRUCTURED-LOCATION;VALUE=URI;X-ADDRESS=Theatre in Brooks Brooks Factoryville PA 18419;X-APPLE-RADIUS=500;X-TITLE=Brooks\, Factoryville\, PA 18419:geo:-75.773977,41.560052
END:VEVENT
END:VCALENDAR