BEGIN:VCALENDAR
VERSION:2.0
PRODID:-//Keystone College - ECPv6.15.17.1//NONSGML v1.0//EN
CALSCALE:GREGORIAN
METHOD:PUBLISH
X-ORIGINAL-URL:https://www.keystone.edu
X-WR-CALDESC:Events for Keystone College
REFRESH-INTERVAL;VALUE=DURATION:PT1H
X-Robots-Tag:noindex
X-PUBLISHED-TTL:PT1H
BEGIN:VTIMEZONE
TZID:America/New_York
BEGIN:DAYLIGHT
TZOFFSETFROM:-0500
TZOFFSETTO:-0400
TZNAME:EDT
DTSTART:20250309T070000
END:DAYLIGHT
BEGIN:STANDARD
TZOFFSETFROM:-0400
TZOFFSETTO:-0500
TZNAME:EST
DTSTART:20251102T060000
END:STANDARD
BEGIN:DAYLIGHT
TZOFFSETFROM:-0500
TZOFFSETTO:-0400
TZNAME:EDT
DTSTART:20260308T070000
END:DAYLIGHT
BEGIN:STANDARD
TZOFFSETFROM:-0400
TZOFFSETTO:-0500
TZNAME:EST
DTSTART:20261101T060000
END:STANDARD
BEGIN:DAYLIGHT
TZOFFSETFROM:-0500
TZOFFSETTO:-0400
TZNAME:EDT
DTSTART:20270314T070000
END:DAYLIGHT
BEGIN:STANDARD
TZOFFSETFROM:-0400
TZOFFSETTO:-0500
TZNAME:EST
DTSTART:20271107T060000
END:STANDARD
END:VTIMEZONE
BEGIN:VEVENT
DTSTART;TZID=America/New_York:20260901T080000
DTEND;TZID=America/New_York:20260901T170000
DTSTAMP:20260423T190733
CREATED:20260129T151218Z
LAST-MODIFIED:20260129T151218Z
UID:10033158-1788249600-1788282000@www.keystone.edu
SUMMARY:Department Meeting
DESCRIPTION:
URL:https://www.keystone.edu/event/department-meeting/
LOCATION:None
CATEGORIES:Academic Dates
ORGANIZER;CN="Registrar":MAILTO:registrar@keystone.edu
END:VEVENT
BEGIN:VEVENT
DTSTART;TZID=America/New_York:20260902T080000
DTEND;TZID=America/New_York:20260902T170000
DTSTAMP:20260423T190733
CREATED:20260129T151258Z
LAST-MODIFIED:20260129T151258Z
UID:10033159-1788336000-1788368400@www.keystone.edu
SUMMARY:Last day to add or drop a Undergraduate Traditional Fall and Graduate Traditional Fall course without notation W
DESCRIPTION:
URL:https://www.keystone.edu/event/last-day-to-add-or-drop-a-undergraduate-traditional-fall-and-graduate-traditional-fall-course-without-notation-w/
LOCATION:None
CATEGORIES:Academic Dates
ORGANIZER;CN="Registrar":MAILTO:registrar@keystone.edu
END:VEVENT
BEGIN:VEVENT
DTSTART;TZID=America/New_York:20260907T080000
DTEND;TZID=America/New_York:20260907T170000
DTSTAMP:20260423T190733
CREATED:20260129T151349Z
LAST-MODIFIED:20260129T151349Z
UID:10033160-1788768000-1788800400@www.keystone.edu
SUMMARY:Labor Day - College Closed
DESCRIPTION:
URL:https://www.keystone.edu/event/labor-day-college-closed/
LOCATION:None
CATEGORIES:Academic Dates
ORGANIZER;CN="Registrar":MAILTO:registrar@keystone.edu
END:VEVENT
BEGIN:VEVENT
DTSTART;TZID=America/New_York:20260911T080000
DTEND;TZID=America/New_York:20260911T170000
DTSTAMP:20260423T190733
CREATED:20260129T151635Z
LAST-MODIFIED:20260129T151635Z
UID:10033161-1789113600-1789146000@www.keystone.edu
SUMMARY:26–27 FAFSA Completion Deadline
DESCRIPTION:
URL:https://www.keystone.edu/event/26-27-fafsa-completion-deadline/
LOCATION:None
CATEGORIES:Academic Dates
ORGANIZER;CN="Registrar":MAILTO:registrar@keystone.edu
END:VEVENT
BEGIN:VEVENT
DTSTART;TZID=America/New_York:20260925T080000
DTEND;TZID=America/New_York:20260925T170000
DTSTAMP:20260423T190733
CREATED:20260129T151716Z
LAST-MODIFIED:20260129T151716Z
UID:10033162-1790323200-1790355600@www.keystone.edu
SUMMARY:Last day to drop an Undergraduate Fall 1 and Graduate Fall 1 course with notation W
DESCRIPTION:
URL:https://www.keystone.edu/event/last-day-to-drop-an-undergraduate-fall-1-and-graduate-fall-1-course-with-notation-w/
LOCATION:None
CATEGORIES:Academic Dates
ORGANIZER;CN="Registrar":MAILTO:registrar@keystone.edu
END:VEVENT
END:VCALENDAR