BEGIN:VCALENDAR
VERSION:2.0
PRODID:-//Keystone College - ECPv6.15.17.1//NONSGML v1.0//EN
CALSCALE:GREGORIAN
METHOD:PUBLISH
X-ORIGINAL-URL:https://www.keystone.edu
X-WR-CALDESC:Events for Keystone College
REFRESH-INTERVAL;VALUE=DURATION:PT1H
X-Robots-Tag:noindex
X-PUBLISHED-TTL:PT1H
BEGIN:VTIMEZONE
TZID:America/New_York
BEGIN:DAYLIGHT
TZOFFSETFROM:-0500
TZOFFSETTO:-0400
TZNAME:EDT
DTSTART:20250309T070000
END:DAYLIGHT
BEGIN:STANDARD
TZOFFSETFROM:-0400
TZOFFSETTO:-0500
TZNAME:EST
DTSTART:20251102T060000
END:STANDARD
BEGIN:DAYLIGHT
TZOFFSETFROM:-0500
TZOFFSETTO:-0400
TZNAME:EDT
DTSTART:20260308T070000
END:DAYLIGHT
BEGIN:STANDARD
TZOFFSETFROM:-0400
TZOFFSETTO:-0500
TZNAME:EST
DTSTART:20261101T060000
END:STANDARD
BEGIN:DAYLIGHT
TZOFFSETFROM:-0500
TZOFFSETTO:-0400
TZNAME:EDT
DTSTART:20270314T070000
END:DAYLIGHT
BEGIN:STANDARD
TZOFFSETFROM:-0400
TZOFFSETTO:-0500
TZNAME:EST
DTSTART:20271107T060000
END:STANDARD
END:VTIMEZONE
BEGIN:VEVENT
DTSTART;TZID=America/New_York:20260302T080000
DTEND;TZID=America/New_York:20260306T170000
DTSTAMP:20260423T095524
CREATED:20240525T160932Z
LAST-MODIFIED:20250519T182631Z
UID:10025460-1772438400-1772816400@www.keystone.edu
SUMMARY:Mid Term Week
DESCRIPTION:
URL:https://www.keystone.edu/event/mid-term-week-2/
LOCATION:None
CATEGORIES:Academic Dates
ORGANIZER;CN="Registrar":MAILTO:registrar@keystone.edu
END:VEVENT
BEGIN:VEVENT
DTSTART;TZID=America/New_York:20260306T080000
DTEND;TZID=America/New_York:20260306T170000
DTSTAMP:20260423T095524
CREATED:20260106T191334Z
LAST-MODIFIED:20260106T191334Z
UID:10033008-1772784000-1772816400@www.keystone.edu
SUMMARY:All first half courses end
DESCRIPTION:
URL:https://www.keystone.edu/event/all-first-half-courses-end/
CATEGORIES:Academic Dates
ORGANIZER;CN="Registrar":MAILTO:registrar@keystone.edu
END:VEVENT
BEGIN:VEVENT
DTSTART;TZID=America/New_York:20260309T080000
DTEND;TZID=America/New_York:20260309T170000
DTSTAMP:20260423T095524
CREATED:20250516T165449Z
LAST-MODIFIED:20250516T165449Z
UID:10030397-1773043200-1773075600@www.keystone.edu
SUMMARY:Traditional and graduate midterm grades due
DESCRIPTION:Traditional and graduate midterm grades due
URL:https://www.keystone.edu/event/traditional-and-graduate-midterm-grades-due-2/
LOCATION:None
CATEGORIES:Academic Dates
ORGANIZER;CN="Registrar":MAILTO:registrar@keystone.edu
END:VEVENT
BEGIN:VEVENT
DTSTART;TZID=America/New_York:20260309T080000
DTEND;TZID=America/New_York:20260313T170000
DTSTAMP:20260423T095524
CREATED:20240525T161053Z
LAST-MODIFIED:20250519T182727Z
UID:10025461-1773043200-1773421200@www.keystone.edu
SUMMARY:Spring Break
DESCRIPTION:
URL:https://www.keystone.edu/event/spring-break-3/
CATEGORIES:Academic Dates
ORGANIZER;CN="Registrar":MAILTO:registrar@keystone.edu
END:VEVENT
BEGIN:VEVENT
DTSTART;TZID=America/New_York:20260316T080000
DTEND;TZID=America/New_York:20260316T170000
DTSTAMP:20260423T095524
CREATED:20240525T164149Z
LAST-MODIFIED:20250516T165607Z
UID:10025484-1773648000-1773680400@www.keystone.edu
SUMMARY:All second half classes begin
DESCRIPTION:All second half classes begin
URL:https://www.keystone.edu/event/all-second-half-classes-begin-2/
LOCATION:None
CATEGORIES:Academic Dates
ORGANIZER;CN="Registrar":MAILTO:registrar@keystone.edu
END:VEVENT
BEGIN:VEVENT
DTSTART;TZID=America/New_York:20260320T080000
DTEND;TZID=America/New_York:20260320T170000
DTSTAMP:20260423T095524
CREATED:20250516T165656Z
LAST-MODIFIED:20250516T165656Z
UID:10030398-1773993600-1774026000@www.keystone.edu
SUMMARY:All attendance due
DESCRIPTION:All attendance due
URL:https://www.keystone.edu/event/all-attendance-due/
LOCATION:None
CATEGORIES:Academic Dates
ORGANIZER;CN="Registrar":MAILTO:registrar@keystone.edu
END:VEVENT
BEGIN:VEVENT
DTSTART;TZID=America/New_York:20260320T080000
DTEND;TZID=America/New_York:20260320T170000
DTSTAMP:20260423T095524
CREATED:20250516T165755Z
LAST-MODIFIED:20250516T165807Z
UID:10030399-1773993600-1774026000@www.keystone.edu
SUMMARY:Last day to add/drop a second half course without notation (W)
DESCRIPTION:Last day to add/drop a second half course without notation (W)
URL:https://www.keystone.edu/event/last-day-to-add-drop-a-second-half-course-without-notation-w/
LOCATION:None
CATEGORIES:Academic Dates
ORGANIZER;CN="Registrar":MAILTO:registrar@keystone.edu
END:VEVENT
BEGIN:VEVENT
DTSTART;TZID=America/New_York:20260324T080000
DTEND;TZID=America/New_York:20260324T170000
DTSTAMP:20260423T095524
CREATED:20240525T161128Z
LAST-MODIFIED:20250516T165944Z
UID:10025462-1774339200-1774371600@www.keystone.edu
SUMMARY:Academic Advising - classes suspended
DESCRIPTION:Summer and fall semester advising begins; Academic Advising Day.
URL:https://www.keystone.edu/event/academic-advising-classes-suspended/
LOCATION:None
CATEGORIES:Academic Dates
ORGANIZER;CN="Registrar":MAILTO:registrar@keystone.edu
END:VEVENT
BEGIN:VEVENT
DTSTART;TZID=America/New_York:20260327T080000
DTEND;TZID=America/New_York:20260327T170000
DTSTAMP:20260423T095524
CREATED:20240525T161505Z
LAST-MODIFIED:20250519T171909Z
UID:10025465-1774598400-1774630800@www.keystone.edu
SUMMARY:Registration begins for veterans for fall
DESCRIPTION:Learn how to register. \nContact your advisor to plan your schedule.
URL:https://www.keystone.edu/event/registration-begins-for-veterans/
LOCATION:None
CATEGORIES:Academic Dates
ORGANIZER;CN="Registrar":MAILTO:registrar@keystone.edu
END:VEVENT
BEGIN:VEVENT
DTSTART;TZID=America/New_York:20260327T080000
DTEND;TZID=America/New_York:20260327T170000
DTSTAMP:20260423T095524
CREATED:20240525T161634Z
LAST-MODIFIED:20250519T171719Z
UID:10025467-1774598400-1774630800@www.keystone.edu
SUMMARY:Summer registration begins for all students
DESCRIPTION:Learn how to register. \nContact your advisor to plan your schedule.
URL:https://www.keystone.edu/event/summer-registration-begins-for-all-students/
LOCATION:None
CATEGORIES:Academic Dates
ORGANIZER;CN="Registrar":MAILTO:registrar@keystone.edu
END:VEVENT
BEGIN:VEVENT
DTSTART;TZID=America/New_York:20260327T080000
DTEND;TZID=America/New_York:20260327T170000
DTSTAMP:20260423T095524
CREATED:20250519T171601Z
LAST-MODIFIED:20250519T171601Z
UID:10030400-1774598400-1774630800@www.keystone.edu
SUMMARY:Last day to withdraw from a traditional or graduate course with notation (W)
DESCRIPTION:Last day to withdraw from a UG Trad and GR Trad course with notation (W)
URL:https://www.keystone.edu/event/last-day-to-withdraw-from-a-traditional-or-graduate-course-with-notation-w-2/
LOCATION:None
CATEGORIES:Academic Dates
ORGANIZER;CN="Registrar":MAILTO:registrar@keystone.edu
END:VEVENT
BEGIN:VEVENT
DTSTART;TZID=America/New_York:20260330T080000
DTEND;TZID=America/New_York:20260330T170000
DTSTAMP:20260423T095524
CREATED:20240525T161835Z
LAST-MODIFIED:20260220T193231Z
UID:10025468-1774857600-1774890000@www.keystone.edu
SUMMARY:Registration for fall begins for KCVC\, graduates\, seniors\, and honors students
DESCRIPTION:Learn how to register. \nContact your advisor to plan your schedule.
URL:https://www.keystone.edu/event/registration-for-fall-begins-for-graduates-seniors-and-honors-students/
LOCATION:None
CATEGORIES:Academic Dates
ORGANIZER;CN="Registrar":MAILTO:registrar@keystone.edu
END:VEVENT
BEGIN:VEVENT
DTSTART;TZID=America/New_York:20260331T080000
DTEND;TZID=America/New_York:20260331T170000
DTSTAMP:20260423T095524
CREATED:20240325T161935Z
LAST-MODIFIED:20250519T171948Z
UID:10025469-1774944000-1774976400@www.keystone.edu
SUMMARY:Registration begins for juniors
DESCRIPTION:Learn how to register. \nContact your advisor to plan your schedule.
URL:https://www.keystone.edu/event/registration-begins-for-juniors-2024/
LOCATION:None
CATEGORIES:Academic Dates
ORGANIZER;CN="Registrar":MAILTO:registrar@keystone.edu
END:VEVENT
END:VCALENDAR